BEGIN:VCALENDAR
VERSION:2.0
PRODID:-//kellogg.northwestern.edu///Outlook MIMEDIR//EN
X-WR-CALNAME: All Faculty Events
BEGIN:VEVENT
DTSTAMP:20260424T160523Z
DTSTART:20170425T171500Z
DTEND:20170425T181500Z
SUMMARY:Nicolas Crouzet
X-ALT-DESC;FMTTYPE=text/html:"Small and large firms over the business cycle"
DESCRIPTION:"Small and large firms over the business cycle"
LOCATION:Kellogg Global Hub 4101
SEQUENCE:0
UID:073f1b38-358c-4a02-bef1-6533faf0aaf8
END:VEVENT
END:VCALENDAR
