BEGIN:VCALENDAR
VERSION:2.0
PRODID:-//kellogg.northwestern.edu///Outlook MIMEDIR//EN
X-WR-CALNAME: All Faculty Events
BEGIN:VEVENT
DTSTAMP:20260419T221745Z
DTSTART:20250527T183000Z
DTEND:20250527T194500Z
SUMMARY:Emma Pierson
X-ALT-DESC;FMTTYPE=text/html:Using New Data to Answer Old Questions
DESCRIPTION:Using New Data to Answer Old Questions
LOCATION:Kellogg Global Hub 4101 or Zoom
SEQUENCE:0
UID:072e59a5-a6bb-4e5f-9959-aa851d988fa7
END:VEVENT
END:VCALENDAR
