BEGIN:VCALENDAR
VERSION:2.0
PRODID:-//kellogg.northwestern.edu///Outlook MIMEDIR//EN
X-WR-CALNAME: All Faculty Events
BEGIN:VEVENT
DTSTAMP:20260423T135505Z
DTSTART:20211025T171500Z
DTEND:20211025T183000Z
SUMMARY:Karam Kang
X-ALT-DESC;FMTTYPE=text/html:Search Frictions and Product Design in the Municipal Bond Market
DESCRIPTION:Search Frictions and Product Design in the Municipal Bond Market
LOCATION:Kellogg Global Hub 5301
SEQUENCE:0
UID:06b2984e-dbc1-48cd-9a80-4320f5c27344
END:VEVENT
END:VCALENDAR
