BEGIN:VCALENDAR
VERSION:2.0
PRODID:-//kellogg.northwestern.edu///Outlook MIMEDIR//EN
X-WR-CALNAME: All Faculty Events
BEGIN:VEVENT
DTSTAMP:20260419T215013Z
DTSTART:20170412T161500Z
DTEND:20170412T173000Z
SUMMARY:Emmanuel Farhi
X-ALT-DESC;FMTTYPE=text/html:"A Model of the International Monetary System"
DESCRIPTION:"A Model of the International Monetary System"
LOCATION:Kellogg Global Hub L130
SEQUENCE:0
UID:069104b5-264f-4fbc-b093-dd4e2fc396e8
END:VEVENT
END:VCALENDAR
