BEGIN:VCALENDAR
VERSION:2.0
PRODID:-//kellogg.northwestern.edu///Outlook MIMEDIR//EN
X-WR-CALNAME: All Faculty Events
BEGIN:VEVENT
DTSTAMP:20260423T143937Z
DTSTART:20231025T170000Z
DTEND:20231025T180000Z
SUMMARY:Operations Seminar - Rene Caldentey
X-ALT-DESC;FMTTYPE=text/html:“Information Design and Sharing in Supply Chains” 
DESCRIPTION:“Information Design and Sharing in Supply Chains” 
LOCATION:Kellogg Global Hub 5101
SEQUENCE:0
UID:05a02cb9-48e8-4581-9b0f-c821515076fb
END:VEVENT
END:VCALENDAR
