BEGIN:VCALENDAR
VERSION:2.0
PRODID:-//kellogg.northwestern.edu///Outlook MIMEDIR//EN
X-WR-CALNAME: All Faculty Events
BEGIN:VEVENT
DTSTAMP:20260421T101629Z
DTSTART:20170531T171500Z
DTEND:20170531T184500Z
SUMMARY:Amir Goldberg
X-ALT-DESC;FMTTYPE=text/html:What Difference Does Difference Make? A Language-Based Model of Cultural Heterogeneity and Firm Performance
DESCRIPTION:What Difference Does Difference Make? A Language-Based Model of Cultural Heterogeneity and Firm Performance
LOCATION:Kellogg Global Hub 4101
SEQUENCE:0
UID:05908822-4a46-479a-aa65-6243237f7d56
END:VEVENT
END:VCALENDAR
