BEGIN:VCALENDAR
VERSION:2.0
PRODID:-//kellogg.northwestern.edu///Outlook MIMEDIR//EN
X-WR-CALNAME: All Faculty Events
BEGIN:VEVENT
DTSTAMP:20260421T045155Z
DTSTART:20170419T161500Z
DTEND:20170419T173000Z
SUMMARY:Patrick Bolton
X-ALT-DESC;FMTTYPE=text/html:"The End of the “Modern Corporation”:Deregulation and Ownership of Electric Utilities" (with Howard Rosenthal)
DESCRIPTION:"The End of the “Modern Corporation”:Deregulation and Ownership of Electric Utilities" (with Howard Rosenthal)
LOCATION:Kellogg Global Hub 1120
SEQUENCE:0
UID:01f991f1-af9f-4ea1-972e-d6f8ba5c6be6
END:VEVENT
END:VCALENDAR
