BEGIN:VCALENDAR
VERSION:2.0
PRODID:-//kellogg.northwestern.edu///Outlook MIMEDIR//EN
X-WR-CALNAME: All Faculty Events
BEGIN:VEVENT
DTSTAMP:20260419T094741Z
DTSTART:20251025T050000Z
DTEND:20251025T050000Z
SUMMARY:Black Management Association Conference 
X-ALT-DESC;FMTTYPE=text/html:Pay Me in Equity: Exploring the Power of Opportunity & Ownership
DESCRIPTION:Pay Me in Equity: Exploring the Power of Opportunity & Ownership
LOCATION:Kellogg Global Hub
SEQUENCE:0
UID:00436ae3-0bbf-47ee-be74-d6e98e9d13ea
END:VEVENT
END:VCALENDAR
