BEGIN:VCALENDAR
VERSION:2.0
PRODID:-//kellogg.northwestern.edu///Outlook MIMEDIR//EN
X-WR-CALNAME: All Faculty Events
BEGIN:VEVENT
DTSTAMP:20260422T144330Z
DTSTART:20180425T170000Z
DTEND:20180425T180000Z
SUMMARY:Javad Nasiry
X-ALT-DESC;FMTTYPE=text/html:"Inventory Management under Financial Constraints"
DESCRIPTION:"Inventory Management under Financial Constraints"
LOCATION:Kellogg Global Hub 5101
SEQUENCE:0
UID:001c957f-a6a3-4d32-8c84-2b6c3cc522e6
END:VEVENT
END:VCALENDAR
